BEGIN:VCALENDAR
VERSION:2.0
PRODID:-//pretix//Jause-Pause//
BEGIN:VEVENT
UID:pretix-VSLEVIS-KW26-0@gsunde.jause-pause.at
DTSTART;VALUE=DATE:20240624
DTEND;VALUE=DATE:20240629
DESCRIPTION:Tickets: https://gsunde.jause-pause.at/VSLEVIS/KW26/\nVeranstal
 ter: VS Levis
DTSTAMP:20260422T100338Z
SUMMARY:Bestellung KW26
END:VEVENT
END:VCALENDAR
