BEGIN:VCALENDAR
VERSION:2.0
PRODID:-//pretix//Jause-Pause//
BEGIN:VEVENT
UID:pretix-VSLEVIS-KW25-0@gsunde.jause-pause.at
DTSTART;VALUE=DATE:20240617
DTEND;VALUE=DATE:20240622
DESCRIPTION:Tickets: https://gsunde.jause-pause.at/VSLEVIS/KW25/\nVeranstal
 ter: VS Levis
DTSTAMP:20260422T121858Z
SUMMARY:Bestellung KW25
END:VEVENT
END:VCALENDAR
