BEGIN:VCALENDAR
VERSION:2.0
PRODID:-//pretix//Jause-Pause//
BEGIN:VEVENT
UID:pretix-VSLEVIS-KW22-0@gsunde.jause-pause.at
DTSTART;VALUE=DATE:20240527
DTEND;VALUE=DATE:20240601
DESCRIPTION:Tickets: https://gsunde.jause-pause.at/VSLEVIS/KW22/\nVeranstal
 ter: VS Levis
DTSTAMP:20260420T123545Z
SUMMARY:Bestellung KW22
END:VEVENT
END:VCALENDAR
