BEGIN:VCALENDAR
VERSION:2.0
PRODID:-//pretix//Jause-Pause//
BEGIN:VEVENT
UID:pretix-VSLEVIS-KW21-0@gsunde.jause-pause.at
DTSTART;VALUE=DATE:20240520
DTEND;VALUE=DATE:20240525
DESCRIPTION:Tickets: https://gsunde.jause-pause.at/VSLEVIS/KW21/\nVeranstal
 ter: VS Levis
DTSTAMP:20260422T095408Z
SUMMARY:Bestellung KW21
END:VEVENT
END:VCALENDAR
