BEGIN:VCALENDAR
VERSION:2.0
PRODID:-//pretix//Jause-Pause//
BEGIN:VEVENT
UID:pretix-VSLEVIS-KW19-0@gsunde.jause-pause.at
DTSTART;VALUE=DATE:20240506
DTEND;VALUE=DATE:20240511
DESCRIPTION:Tickets: https://gsunde.jause-pause.at/VSLEVIS/KW19/\nVeranstal
 ter: VS Levis
DTSTAMP:20260422T082644Z
SUMMARY:Bestellung KW19
END:VEVENT
END:VCALENDAR
