BEGIN:VCALENDAR
VERSION:2.0
PRODID:-//pretix//Jause-Pause//
BEGIN:VEVENT
UID:pretix-VSLEVIS-KW18-0@gsunde.jause-pause.at
DTSTART;VALUE=DATE:20240429
DTEND;VALUE=DATE:20240504
DESCRIPTION:Tickets: https://gsunde.jause-pause.at/VSLEVIS/KW18/\nVeranstal
 ter: VS Levis
DTSTAMP:20260422T100343Z
SUMMARY:Bestellung KW18
END:VEVENT
END:VCALENDAR
