BEGIN:VCALENDAR
VERSION:2.0
PRODID:-//pretix//Jause-Pause//
BEGIN:VEVENT
UID:pretix-VSLEVIS-KW17-0@gsunde.jause-pause.at
DTSTART;VALUE=DATE:20240422
DTEND;VALUE=DATE:20240427
DESCRIPTION:Tickets: https://gsunde.jause-pause.at/VSLEVIS/KW17/\nVeranstal
 ter: VS Levis
DTSTAMP:20260422T095522Z
SUMMARY:Bestellung KW17
END:VEVENT
END:VCALENDAR
