BEGIN:VCALENDAR
VERSION:2.0
PRODID:-//pretix//Jause-Pause//
BEGIN:VEVENT
UID:pretix-VSLEVIS-KW12-0@gsunde.jause-pause.at
DTSTART;VALUE=DATE:20240318
DTEND;VALUE=DATE:20240323
DESCRIPTION:Tickets: https://gsunde.jause-pause.at/VSLEVIS/KW12/\nVeranstal
 ter: VS Levis
DTSTAMP:20260422T095430Z
SUMMARY:Bestellung KW12
END:VEVENT
END:VCALENDAR
