BEGIN:VCALENDAR
VERSION:2.0
PRODID:-//pretix//Jause-Pause//
BEGIN:VEVENT
UID:pretix-VSLEVIS-KW05-0@gsunde.jause-pause.at
DTSTART;VALUE=DATE:20240129
DTEND;VALUE=DATE:20240203
DESCRIPTION:Tickets: https://gsunde.jause-pause.at/VSLEVIS/KW05/\nVeranstal
 ter: VS Levis
DTSTAMP:20260422T095414Z
SUMMARY:Bestellung KW05
END:VEVENT
END:VCALENDAR
