BEGIN:VCALENDAR
VERSION:2.0
PRODID:-//pretix//Jause-Pause//
BEGIN:VEVENT
UID:pretix-VSLEVIS-KW04-0@gsunde.jause-pause.at
DTSTART;VALUE=DATE:20240122
DTEND;VALUE=DATE:20240127
DESCRIPTION:Tickets: https://gsunde.jause-pause.at/VSLEVIS/KW04/\nVeranstal
 ter: VS Levis
DTSTAMP:20260422T095414Z
SUMMARY:Bestellung KW04 22.01 - 26.01
END:VEVENT
END:VCALENDAR
