BEGIN:VCALENDAR
VERSION:2.0
PRODID:-//pretix//Jause-Pause//
BEGIN:VEVENT
UID:pretix-VLB-KW39-0@gsunde.jause-pause.at
DTSTART;VALUE=DATE:20230925
DTEND;VALUE=DATE:20230930
DESCRIPTION:Tickets: https://gsunde.jause-pause.at/VLB/KW39/\nVeranstalter:
  Vorarlberg
DTSTAMP:20260422T100338Z
SUMMARY:Bestellung KW39
END:VEVENT
END:VCALENDAR
